BEGIN:VCALENDAR
VERSION:2.0
PRODID:-//Instructor Home - ECPv6.8.3//NONSGML v1.0//EN
CALSCALE:GREGORIAN
METHOD:PUBLISH
X-WR-CALNAME:Instructor Home
X-ORIGINAL-URL:http://hp1.28e.mywebsitetransfer.com
X-WR-CALDESC:Events for Instructor Home
REFRESH-INTERVAL;VALUE=DURATION:PT1H
X-Robots-Tag:noindex
X-PUBLISHED-TTL:PT1H
BEGIN:VTIMEZONE
TZID:UTC
BEGIN:STANDARD
TZOFFSETFROM:+0000
TZOFFSETTO:+0000
TZNAME:UTC
DTSTART:20250101T000000
END:STANDARD
END:VTIMEZONE
BEGIN:VEVENT
DTSTART;TZID=UTC:20250115T100000
DTEND;TZID=UTC:20250115T160000
DTSTAMP:20260419T153625
CREATED:20171016T081854Z
LAST-MODIFIED:20240813T093325Z
UID:8606-1736935200-1736956800@hp1.28e.mywebsitetransfer.com
SUMMARY:Grand Adventure 2025
DESCRIPTION:At Instructor Home\, our tech school environment made for a vibrant and enjoyable experience\, with ample opportunities for exploring social activities. This party is designed to bring people together in a stylish and relaxed setting\, perfect for unwinding\, socializing\, and savoring life’s finer pleasures. Ideal for those who enjoy dressing up and meeting new people\, this event features delightful conversations\, exquisite food\, and drinks. \n  \n \n  \nStep outside the classroom for a dynamic experience that highlights the social and entertaining aspects of our community. Engage in exciting games\, dance\, singing\, and creative activities while forming unforgettable memories. This elegant event offers a perfect blend of mingling and celebration\, making it a great opportunity to connect and enjoy a sophisticated atmosphere.
URL:http://hp1.28e.mywebsitetransfer.com/event/grand-adventure-2025/
LOCATION:Worldwide
CATEGORIES:Customer Support,Data Entry,Developer,Frontend,JavaScript,Project Management,Tech,Virtual Assistance
ATTACH;FMTTYPE=image/jpeg:http://hp1.28e.mywebsitetransfer.com/wp-content/uploads/2017/10/img-2.jpg
ORGANIZER;CN="Instructor Home USA":MAILTO:admin@instructorhome.com
END:VEVENT
END:VCALENDAR